BEGIN:VCALENDAR
VERSION:2.0
PRODID:-// - ECPv6.15.20//NONSGML v1.0//EN
CALSCALE:GREGORIAN
METHOD:PUBLISH
X-ORIGINAL-URL:https://utahpga.com
X-WR-CALDESC:Events for 
REFRESH-INTERVAL;VALUE=DURATION:PT1H
X-Robots-Tag:noindex
X-PUBLISHED-TTL:PT1H
BEGIN:VTIMEZONE
TZID:America/Boise
BEGIN:DAYLIGHT
TZOFFSETFROM:-0700
TZOFFSETTO:-0600
TZNAME:MDT
DTSTART:20240310T090000
END:DAYLIGHT
BEGIN:STANDARD
TZOFFSETFROM:-0600
TZOFFSETTO:-0700
TZNAME:MST
DTSTART:20241103T080000
END:STANDARD
BEGIN:DAYLIGHT
TZOFFSETFROM:-0700
TZOFFSETTO:-0600
TZNAME:MDT
DTSTART:20250309T090000
END:DAYLIGHT
BEGIN:STANDARD
TZOFFSETFROM:-0600
TZOFFSETTO:-0700
TZNAME:MST
DTSTART:20251102T080000
END:STANDARD
BEGIN:DAYLIGHT
TZOFFSETFROM:-0700
TZOFFSETTO:-0600
TZNAME:MDT
DTSTART:20260308T090000
END:DAYLIGHT
BEGIN:STANDARD
TZOFFSETFROM:-0600
TZOFFSETTO:-0700
TZNAME:MST
DTSTART:20261101T080000
END:STANDARD
END:VTIMEZONE
BEGIN:VEVENT
DTSTART;VALUE=DATE:20250503
DTEND;VALUE=DATE:20250504
DTSTAMP:20260419T215501
CREATED:20250221T194940Z
LAST-MODIFIED:20250306T190108Z
UID:24371-1746230400-1746316799@utahpga.com
SUMMARY:Birch Creek 2-Man Scramble
DESCRIPTION:
URL:https://utahpga.com/event/birch-creek-2-man-scramble-3/
LOCATION:Birch Creek GC\, Smithfield\, UT\, Smithfield\, UT\, United States
CATEGORIES:Amateur
END:VEVENT
BEGIN:VEVENT
DTSTART;VALUE=DATE:20250503
DTEND;VALUE=DATE:20250504
DTSTAMP:20260419T215501
CREATED:20250221T194941Z
LAST-MODIFIED:20250306T190108Z
UID:24373-1746230400-1746316799@utahpga.com
SUMMARY:Glenmoor Amateur 2.0 (2-Person Best Ball)
DESCRIPTION:
URL:https://utahpga.com/event/glenmoor-amateur-2-0-2-person-best-ball/
LOCATION:Glenmoor GC\, South Jordan\, UT\, South Jordan\, UT\, United States
CATEGORIES:Amateur
END:VEVENT
BEGIN:VEVENT
DTSTART;VALUE=DATE:20250503
DTEND;VALUE=DATE:20250504
DTSTAMP:20260419T215501
CREATED:20250221T195141Z
LAST-MODIFIED:20250306T190123Z
UID:24375-1746230400-1746316799@utahpga.com
SUMMARY:St. George Summer Amateur
DESCRIPTION:
URL:https://utahpga.com/event/st-george-summer-amateur-3/
LOCATION:St. George GC\, St. George\, UT\, St. George\, UT\, United States
CATEGORIES:Amateur
END:VEVENT
BEGIN:VEVENT
DTSTART;VALUE=DATE:20250503
DTEND;VALUE=DATE:20250505
DTSTAMP:20260419T215501
CREATED:20250221T195141Z
LAST-MODIFIED:20250306T190123Z
UID:24376-1746230400-1746403199@utahpga.com
SUMMARY:Canyonlands Amateur
DESCRIPTION:
URL:https://utahpga.com/event/canyonlands-amateur/
LOCATION:Moab GC\, Moab\, UT\, Moab\, UT\, United States
CATEGORIES:Amateur
END:VEVENT
BEGIN:VEVENT
DTSTART;VALUE=DATE:20250509
DTEND;VALUE=DATE:20250510
DTSTAMP:20260419T215501
CREATED:20250221T195331Z
LAST-MODIFIED:20250306T190138Z
UID:24384-1746748800-1746835199@utahpga.com
SUMMARY:Glen Eagle Amateur
DESCRIPTION:
URL:https://utahpga.com/event/glen-eagle-amateur-3/
LOCATION:Glen Eagle GC\, Syracuse\, UT\, Syracuse\, UT\, United States
CATEGORIES:Amateur
END:VEVENT
BEGIN:VEVENT
DTSTART;VALUE=DATE:20250510
DTEND;VALUE=DATE:20250511
DTSTAMP:20260419T215501
CREATED:20250221T195346Z
LAST-MODIFIED:20250306T190153Z
UID:24385-1746835200-1746921599@utahpga.com
SUMMARY:Canyon Hills 2-Man Best Ball
DESCRIPTION:
URL:https://utahpga.com/event/canyon-hills-2-man-best-ball-3/
LOCATION:Canyon Hills GC\, Nephi\, UT\, Nephi\, UT\, United States
CATEGORIES:Amateur
END:VEVENT
BEGIN:VEVENT
DTSTART;VALUE=DATE:20250515
DTEND;VALUE=DATE:20250517
DTSTAMP:20260419T215501
CREATED:20250221T195602Z
LAST-MODIFIED:20250306T190223Z
UID:24395-1747267200-1747439999@utahpga.com
SUMMARY:RPM 4-Man Scramble
DESCRIPTION:
URL:https://utahpga.com/event/rpm-4-man-scramble-5/
LOCATION:Toana Vista GC\, Wendover\, NV\, Wendover\, UT\, United States
CATEGORIES:Amateur
END:VEVENT
BEGIN:VEVENT
DTSTART;VALUE=DATE:20250516
DTEND;VALUE=DATE:20250517
DTSTAMP:20260419T215501
CREATED:20250221T195603Z
LAST-MODIFIED:20250306T190223Z
UID:24399-1747353600-1747439999@utahpga.com
SUMMARY:Logan River-Pepsi Amateur (Afternoon)
DESCRIPTION:
URL:https://utahpga.com/event/logan-river-pepsi-amateur-afternoon-2/
LOCATION:Logan River GC\, Logan\, UT\, Logan\, UT\, United States
CATEGORIES:Amateur
END:VEVENT
BEGIN:VEVENT
DTSTART;VALUE=DATE:20250517
DTEND;VALUE=DATE:20250518
DTSTAMP:20260419T215501
CREATED:20250221T195617Z
LAST-MODIFIED:20250306T190238Z
UID:24401-1747440000-1747526399@utahpga.com
SUMMARY:Rich Day Group Bountiful Ridge Amateur
DESCRIPTION:
URL:https://utahpga.com/event/rich-day-group-bountiful-ridge-amateur-3/
LOCATION:Bountiful Ridge GC\, Bountiful\, UT\, Bountiful\, UT\, United States
CATEGORIES:Amateur
END:VEVENT
BEGIN:VEVENT
DTSTART;VALUE=DATE:20250523
DTEND;VALUE=DATE:20250524
DTSTAMP:20260419T215501
CREATED:20250221T200019Z
LAST-MODIFIED:20250306T190308Z
UID:24414-1747958400-1748044799@utahpga.com
SUMMARY:Bloomington CC Amateur
DESCRIPTION:
URL:https://utahpga.com/event/bloomington-cc-amateur-3/
LOCATION:Bloomington CC\, St. George\, UT\, St. George\, UT\, United States
CATEGORIES:Amateur
END:VEVENT
BEGIN:VEVENT
DTSTART;VALUE=DATE:20250524
DTEND;VALUE=DATE:20250525
DTSTAMP:20260419T215501
CREATED:20250221T200219Z
LAST-MODIFIED:20250306T190323Z
UID:24416-1748044800-1748131199@utahpga.com
SUMMARY:Valley View Amateur
DESCRIPTION:
URL:https://utahpga.com/event/valley-view-amateur-3/
LOCATION:Valley View GC\, Layton\, UT\, Layton\, UT\, United States
CATEGORIES:Amateur
END:VEVENT
BEGIN:VEVENT
DTSTART;VALUE=DATE:20250524
DTEND;VALUE=DATE:20250526
DTSTAMP:20260419T215501
CREATED:20250221T200219Z
LAST-MODIFIED:20250306T190323Z
UID:24417-1748044800-1748217599@utahpga.com
SUMMARY:Ely Amateur
DESCRIPTION:
URL:https://utahpga.com/event/ely-amateur-2/
LOCATION:White Pine GC\, Ely\, NV\, Ely\, NV\, United States
CATEGORIES:Amateur
END:VEVENT
BEGIN:VEVENT
DTSTART;VALUE=DATE:20250530
DTEND;VALUE=DATE:20250531
DTSTAMP:20260419T215501
CREATED:20250221T200421Z
LAST-MODIFIED:20250306T190338Z
UID:24423-1748563200-1748649599@utahpga.com
SUMMARY:The Leavitt Group Cedar Amateur
DESCRIPTION:
URL:https://utahpga.com/event/the-leavitt-group-cedar-amateur-3/
LOCATION:Cedar Ridge GC\, Cedar City\, UT\, Cedar City\, UT\, United States
CATEGORIES:Amateur
END:VEVENT
BEGIN:VEVENT
DTSTART;VALUE=DATE:20250531
DTEND;VALUE=DATE:20250601
DTSTAMP:20260419T215501
CREATED:20250306T190354Z
LAST-MODIFIED:20250306T190354Z
UID:24700-1748649600-1748735999@utahpga.com
SUMMARY:Richard C. Kramer Salt Lake City Amateur
DESCRIPTION:
URL:https://utahpga.com/event/richard-c-kramer-salt-lake-city-amateur-3/
LOCATION:Bonneville GC\, Salt Lake City\, UT\, Salt Lake City\, UT\, United States
CATEGORIES:Amateur
END:VEVENT
END:VCALENDAR